BEGIN:VCALENDAR
VERSION:2.0
PRODID:-//BPW Ticino//NONSGML kigkonsult.se iCalcreator 2.16.12//
METHOD:PUBLISH
X-MS-OLK-FORCEINSPECTOROPEN:TRUE
BEGIN:VEVENT
UID:20260423T001823CEST-4073kIcjR3@BPW Ticino
DTSTAMP:20260422T221823Z
DESCRIPTION:Appuntamento al\nClass Cafè Lugano\nCorso Pestalozzi 3\n6900 Lu
 gano
DTSTART:20160608T010000
DTEND:20160608T020000
LOCATION:Lugano
ORGANIZER:MAILTO:BPW Ticino <info@bpw-ticino.ch>
SUMMARY:Incontro socie
END:VEVENT
END:VCALENDAR
