BEGIN:VCALENDAR
VERSION:2.0
PRODID:-//BPW Ticino//NONSGML kigkonsult.se iCalcreator 2.16.12//
METHOD:PUBLISH
X-MS-OLK-FORCEINSPECTOROPEN:TRUE
BEGIN:VEVENT
UID:20260423T001735CEST-9299L514ta@BPW Ticino
DTSTAMP:20260422T221735Z
DESCRIPTION: 
DTSTART:20160323T010000
DTEND:20160323T020000
LOCATION:SWICA\, Lugano
ORGANIZER:MAILTO:BPW Ticino <info@bpw-ticino.ch>
SUMMARY:Incontro socie
END:VEVENT
END:VCALENDAR
