BEGIN:VCALENDAR
VERSION:2.0
PRODID:-//BPW Ticino//NONSGML kigkonsult.se iCalcreator 2.16.12//
METHOD:PUBLISH
X-MS-OLK-FORCEINSPECTOROPEN:TRUE
BEGIN:VEVENT
UID:20260423T001455CEST-0666GeTiB4@BPW Ticino
DTSTAMP:20260422T221455Z
DESCRIPTION:\n\n\n\nCare Socie\, care Amiche\,\ncome ogni anno il BPW Club 
 Ticino celebra l’appuntamento più importante della nostra associazione\, “
 La Cerimonia Internazionale delle Candele”. Istituita dalla fondatrice del
  Club\, Lena Madesin Phillips\, durante la seconda guerra mondiale - la Ce
 rimonia delle Candele simboleggia la solidarietà femminile a livello mondi
 ale. Ogni anno\, tra febbraio e marzo è celebrata dai Club BPW di tutto il
  mondo. Si tratta di una serata dall’atmosfera suggestiva\, che riunisce t
 utti i clubs in un simbolico abbraccio per ricordare le ambizioni e l’oper
 a delle donne impegnate in ogni parte del globo.\nAnche quest’anno la sera
 ta è aperta agli uomini e alle amiche ed amici del nostro Club. \nQui pote
 te scaricare l’invito\, il menu tradizionale e quello vegetariano.\nPer mo
 tivi organizzativi vi preghiamo gentilmente di volerci comunicare la vostr
 a partecipazione entro e non oltre il 15 febbraio 2016 inviando una e-mail
  a info@bpw-ticino.ch\, segnalandoci anche l’eventuale scelta del menu veg
 etariano o intolleranze alimentari.\nIl parcheggio è gratuito all’interno 
 dell’hotel.\nVi aspettiamo!\nCordialmente\nComitato BPW Club Ticino\n 
DTSTART:20160219T010000
DTEND:20160219T020000
LOCATION:Hotel Splendide Royal\, Lugano
ORGANIZER:MAILTO:BPW Ticino <info@bpw-ticino.ch>
SUMMARY:Cena delle Candele 2016
END:VEVENT
END:VCALENDAR
