BEGIN:VCALENDAR
VERSION:2.0
PRODID:-//BPW Ticino//NONSGML kigkonsult.se iCalcreator 2.16.12//
METHOD:PUBLISH
X-MS-OLK-FORCEINSPECTOROPEN:TRUE
BEGIN:VEVENT
UID:20260423T001443CEST-9483L5xURv@BPW Ticino
DTSTAMP:20260422T221443Z
DESCRIPTION:Valori e dolori delle donne manager nelle organizzazioni\n\nLa 
 Presidente del BPW Club Ticino\, Marialuisa Parodi\, aprirà l'evento parla
 ndo del\npotenziale economico e sociale di una piena inclusione femminile
 \n\n\n\n\n\nSCARICARE L'INVITO IN PDF\n\n \n 
DTSTART:20151202T133000
DTEND:20151202T183000
LOCATION:Hotel de La Paix\, Lugano
ORGANIZER:MAILTO:BPW Ticino <info@bpw-ticino.ch>
SUMMARY:Femmine con(tro) Maschi. 
END:VEVENT
END:VCALENDAR
