BEGIN:VCALENDAR
VERSION:2.0
PRODID:-//BPW Ticino//NONSGML kigkonsult.se iCalcreator 2.16.12//
METHOD:PUBLISH
X-MS-OLK-FORCEINSPECTOROPEN:TRUE
BEGIN:VEVENT
UID:20260423T001417CEST-8348WS7Uh4@BPW Ticino
DTSTAMP:20260422T221417Z
DESCRIPTION:Cena con musica strumentale dal vivo.
DTSTART:20151203T200000
DTEND:20151203T210000
LOCATION:Ristorante Hotel Delfino\, Via Cassarinetta 6\, 6900 Lugano
ORGANIZER:MAILTO:BPW Ticino <info@bpw-ticino.ch>
SUMMARY:Cena di Natale 
END:VEVENT
END:VCALENDAR
