BEGIN:VCALENDAR
VERSION:2.0
PRODID:-//BPW Ticino//NONSGML kigkonsult.se iCalcreator 2.16.12//
METHOD:PUBLISH
X-MS-OLK-FORCEINSPECTOROPEN:TRUE
BEGIN:VEVENT
UID:20260423T001301CEST-2416mUze2l@BPW Ticino
DTSTAMP:20260422T221301Z
DESCRIPTION: L’Assemblea Ordinaria del BPW CLUB Ticino è convocata per vene
 rdi 29 gennaio 2016 alle ore 18.45 presso l’Hotel Delfino a Lugano (http:/
 /www.hoteldelfinolugano.ch/it/)\nRicordiamo che la partecipazione all'Asse
 mplea è obbligatoria. Qualora una Socia fosse impossibilitata a presenziar
 e\, è pregata di darne comunicazione e contestualmente delegare una rappre
 sentante via mail all'indirizzo info@bpw-ticino.ch\, con copia alla Presid
 ente in carica\, Marialuisa Parodi\, marialuisa@bpw-ticino.ch\, entro il 2
 5 gennaio 2015.\n**Le nuove Socie sono invitate a scegliere una Madrina\, 
 che avrà il compito e l'onore di presentarle all'Assemblea**\nLe Socie usc
 enti potranno pure partecipare all'Assemblea (o delegare una rappresentant
 e)\, ritenuto che le loro dimissioni verranno in quel contesto ratificate.
 \nVi preghiamo di comunicarci se desiderate fermarvi dopo l’Assemblea per 
 la tradizionale cena\, presso lo stesso ristorante\, che per la serata ser
 virà un menù di 3 portate al prezzo di CHF50 p.p. (acqua e caffè inclusi).
  Il vino sarà offerto dal Club.
DTSTART:20160129T180000
DTEND:20160129T230000
LOCATION:Hotel Delfino\, Lugano
ORGANIZER:MAILTO:BPW Ticino <info@bpw-ticino.ch>
SUMMARY:Assemblea annuale BPW Ticino
END:VEVENT
END:VCALENDAR
