BEGIN:VCALENDAR
VERSION:2.0
PRODID:-//BPW Ticino//NONSGML kigkonsult.se iCalcreator 2.16.12//
METHOD:PUBLISH
X-MS-OLK-FORCEINSPECTOROPEN:TRUE
BEGIN:VEVENT
UID:20260423T001602CEST-3583e9XfaO@BPW Ticino
DTSTAMP:20260422T221602Z
DESCRIPTION: \n\n
DTSTART:20150608T171500
DTEND:20150608T190000
LOCATION:Comano\, Sala formazione RSI
ORGANIZER:MAILTO:BPW Ticino <info@bpw-ticino.ch>
SUMMARY:Mentoring: strumento efficace di promozione dei talenti femminili
END:VEVENT
END:VCALENDAR
