BEGIN:VCALENDAR
VERSION:2.0
PRODID:-//BPW Ticino//NONSGML kigkonsult.se iCalcreator 2.16.12//
METHOD:PUBLISH
X-MS-OLK-FORCEINSPECTOROPEN:TRUE
BEGIN:VEVENT
UID:20260423T001726CEST-0911dWp7d3@BPW Ticino
DTSTAMP:20260422T221726Z
DESCRIPTION:\nConferenza\nContestualizzazione e modernità \ndei “trasparent
 i” delle processioni storiche di Mendrisio \nCon ANASTASIA GILARDI\, stori
 ca dell'arte \ngiovedì 23 aprile 2015\, dalle ore 18:30 \nsede BPW Ticino\
 , c/o Swica Assicurazioni \nVia Cantonale 10\, Lugano \nSeguirà aperitivo
 \nLe interessate possono annunciare la partecipazione via mail all’indiriz
 zo: info@bpw-ticino.ch entro il 20 aprile 2015.\nScaricare il volantino\nS
 caricare l'invito\nScaricare la presentazione animata
DTSTART:20150423T000000
DTEND:20150423T000000
LOCATION:da definire
ORGANIZER:MAILTO:BPW Ticino <info@bpw-ticino.ch>
SUMMARY: Presentazione  Trasparenti Processioni Storiche
END:VEVENT
END:VCALENDAR
