BEGIN:VCALENDAR
VERSION:2.0
PRODID:-//BPW Ticino//NONSGML kigkonsult.se iCalcreator 2.16.12//
METHOD:PUBLISH
X-MS-OLK-FORCEINSPECTOROPEN:TRUE
BEGIN:VEVENT
UID:20260423T001731CEST-51367F6M4i@BPW Ticino
DTSTAMP:20260422T221731Z
DESCRIPTION:Riunione a pranzo
DTSTART:20150402T120000
DTEND:20150402T140000
LOCATION:Lugano - pranzo
ORGANIZER:MAILTO:BPW Ticino <info@bpw-ticino.ch>
SUMMARY:Riunione di comitato aperta alle socie
END:VEVENT
END:VCALENDAR
