BEGIN:VCALENDAR
VERSION:2.0
PRODID:-//BPW Ticino//NONSGML kigkonsult.se iCalcreator 2.16.12//
METHOD:PUBLISH
X-MS-OLK-FORCEINSPECTOROPEN:TRUE
BEGIN:VEVENT
UID:20260423T001301CEST-4200f0SkiC@BPW Ticino
DTSTAMP:20260422T221301Z
DESCRIPTION: 
DTSTART:20150107T100000
DTEND:20150128T130000
LOCATION:Lugano\, c/o sede Swica\, via Cantonale 
ORGANIZER:MAILTO:BPW Ticino <info@bpw-ticino.ch>
SUMMARY:Riunione di comitato aperta alle socie
END:VEVENT
END:VCALENDAR
