BEGIN:VCALENDAR
VERSION:2.0
PRODID:-//BPW Ticino//NONSGML kigkonsult.se iCalcreator 2.16.12//
METHOD:PUBLISH
X-MS-OLK-FORCEINSPECTOROPEN:TRUE
BEGIN:VEVENT
UID:20260424T102256CEST-7763Pa5dge@BPW Ticino
DTSTAMP:20260424T082256Z
DESCRIPTION: 
DTSTART:20151020T010000
DTEND:20151020T020000
LOCATION:Lugano\, c/o sede Swica\, via Cantonale 
ORGANIZER:MAILTO:BPW Ticino <info@bpw-ticino.ch>
SUMMARY:Presentazione nuove socie e aperitivo
END:VEVENT
END:VCALENDAR
