BEGIN:VCALENDAR
VERSION:2.0
PRODID:-//BPW Ticino//NONSGML kigkonsult.se iCalcreator 2.16.12//
METHOD:PUBLISH
X-MS-OLK-FORCEINSPECTOROPEN:TRUE
BEGIN:VEVENT
UID:20260423T001730CEST-6735rxB7vo@BPW Ticino
DTSTAMP:20260422T221730Z
DESCRIPTION: \n\n \n\nIl “Meeting di fine estate” chiude il periodo tradizi
 onalmente dedicato alle vacanze.\nQuattro chiacchiere tra amiche e un aper
 itivo in riva al lago di Lugano nella piacevole atmosfera della sera\, fra
  musica\, convivialità e progetti per la prossima stagione.\n\nGiovedì 20 
 agosto 2015\, dalle ore 17:30\nLa Lanchetta Lounge Bar\, Lugano\n\n\n\n\n
 \n\nL'evento è aperto alle socie e a coloro che sono interessate a diventa
 rlo. \n\n \n\nVi attendiamo numerose!\n\n \nSegnalateci al più presto la v
 ostra presenza per e-mail all'indirizzo\n info@bpw-ticino.ch\n 
DTSTART:20150820T173000
DTEND:20150820T193000
LOCATION:Lugano\, c/o Lanchetta Lounge Bar
ORGANIZER:MAILTO:BPW Ticino <info@bpw-ticino.ch>
SUMMARY:Meeting di fine estate
END:VEVENT
END:VCALENDAR
