BEGIN:VCALENDAR
VERSION:2.0
PRODID:-//BPW Ticino//NONSGML kigkonsult.se iCalcreator 2.16.12//
METHOD:PUBLISH
X-MS-OLK-FORCEINSPECTOROPEN:TRUE
BEGIN:VEVENT
UID:20260423T001823CEST-5057bLB1c2@BPW Ticino
DTSTAMP:20260422T221823Z
DESCRIPTION: 
DTSTART:20150610T010000
DTEND:20150610T020000
LOCATION:Lugano\, c/o sede Swica\, via Cantonale 
ORGANIZER:MAILTO:BPW Ticino <info@bpw-ticino.ch>
SUMMARY:Presentazione nuove socie e aperitivo
END:VEVENT
END:VCALENDAR
