BEGIN:VCALENDAR
VERSION:2.0
PRODID:-//BPW Ticino//NONSGML kigkonsult.se iCalcreator 2.16.12//
METHOD:PUBLISH
X-MS-OLK-FORCEINSPECTOROPEN:TRUE
BEGIN:VEVENT
UID:20260423T001950CEST-2962IMDB0K@BPW Ticino
DTSTAMP:20260422T221950Z
DESCRIPTION: 
DTSTART:20151107T080000
DTEND:20151112T230000
LOCATION:Zofingen
ORGANIZER:MAILTO:BPW Ticino <info@bpw-ticino.ch>
SUMMARY:Conferenza d'autunno
END:VEVENT
END:VCALENDAR
