BEGIN:VCALENDAR
VERSION:2.0
PRODID:-//BPW Ticino//NONSGML kigkonsult.se iCalcreator 2.16.12//
METHOD:PUBLISH
X-MS-OLK-FORCEINSPECTOROPEN:TRUE
BEGIN:VEVENT
UID:20260423T001455CEST-03995UNVvW@BPW Ticino
DTSTAMP:20260422T221455Z
DESCRIPTION: 
DTSTART:20150912T070000
DTEND:20150912T230000
LOCATION:Zurigo
ORGANIZER:MAILTO:BPW Ticino <info@bpw-ticino.ch>
SUMMARY:Conferenza delle Presidenti
END:VEVENT
END:VCALENDAR
