BEGIN:VCALENDAR
VERSION:2.0
PRODID:-//BPW Ticino//NONSGML kigkonsult.se iCalcreator 2.16.12//
METHOD:PUBLISH
X-MS-OLK-FORCEINSPECTOROPEN:TRUE
BEGIN:VEVENT
UID:20260423T001824CEST-20073dMA3Z@BPW Ticino
DTSTAMP:20260422T221824Z
DESCRIPTION: 
DTSTART:20150309T010000
DTEND:20150309T230000
LOCATION:Bellinzona
ORGANIZER:MAILTO:BPW Ticino <info@bpw-ticino.ch>
SUMMARY:SAVE THE DATE: Equal Pay Day 2015 - Ticino
END:VEVENT
END:VCALENDAR
