BEGIN:VCALENDAR
VERSION:2.0
PRODID:-//BPW Ticino//NONSGML kigkonsult.se iCalcreator 2.16.12//
METHOD:PUBLISH
X-MS-OLK-FORCEINSPECTOROPEN:TRUE
BEGIN:VEVENT
UID:20260424T102455CEST-49958pArv0@BPW Ticino
DTSTAMP:20260424T082455Z
DESCRIPTION:Marcia Mondiale delle donne per la parità dei salari e contro l
 'aumento dell'età pensionabile
DTSTART:20150307T080000
DTEND:20150307T230000
LOCATION:Berna
ORGANIZER:MAILTO:BPW Ticino <info@bpw-ticino.ch>
SUMMARY:Marcia Mondiale delle donne per la parità
END:VEVENT
END:VCALENDAR
