BEGIN:VCALENDAR
VERSION:2.0
PRODID:-//BPW Ticino//NONSGML kigkonsult.se iCalcreator 2.16.12//
METHOD:PUBLISH
X-MS-OLK-FORCEINSPECTOROPEN:TRUE
BEGIN:VEVENT
UID:20260423T001443CEST-6646vdnsWG@BPW Ticino
DTSTAMP:20260422T221443Z
DESCRIPTION: 
DTSTART:20150209T120000
DTEND:20150209T230000
ORGANIZER:MAILTO:BPW Ticino <info@bpw-ticino.ch>
SUMMARY:Validazione agenda Forum 54 donne elettrici
END:VEVENT
END:VCALENDAR
