BEGIN:VCALENDAR
VERSION:2.0
PRODID:-//BPW Ticino//NONSGML kigkonsult.se iCalcreator 2.16.12//
METHOD:PUBLISH
X-MS-OLK-FORCEINSPECTOROPEN:TRUE
BEGIN:VEVENT
UID:20260423T001602CEST-4830UVcJUm@BPW Ticino
DTSTAMP:20260422T221602Z
DESCRIPTION:Care Socie\, care Amiche e cari Amici\,\n \ncome ogni anno il B
 PW Club Ticino celebra l’appuntamento più importante della nostra associaz
 ione\, “La Cerimonia Internazionale delle Candele”. Istituita dalla fondat
 rice del Club\, Lena Madesin Phillips\, durante la seconda guerra mondiale
  - la cerimonia delle candele simboleggia la solidarietà femminile a livel
 lo mondiale. Ogni anno\, tra febbraio e marzo è celebrata dai Club BPW di 
 tutto il mondo. Si tratta di una serata dall’atmosfera suggestiva\, che ri
 unisce tutti i club in un simbolico abbraccio per ricordare le ambizioni e
  l’opera delle donne impegnate in ogni parte del globo.\n \nDa quest’anno 
 c’è una grande novità: la serata è aperta anche agli uomini e alle amiche 
 ed amici del nostro Club. \n \nScaricate l’invito e il menu con tutti i de
 ttagli dell’evento. La serata sarà allietata da intrattenimento musicale. 
 Il parcheggio è gratuito all’interno dell’hotel.\n \nPer motivi organizzat
 ivi vi preghiamo gentilmente di volerci comunicare la vostra partecipazion
 e entro e non oltre il 28 febbraio 2015 inviando una e-mail a info@bpw-tic
 ino.ch\, segnalandoci anche l’eventuale scelta del menu vegetariano o di i
 ntolleranze alimentari.\n \nNell’attesa di potervi dare il benvenuto\, ci 
 è gradita l’occasione per salutarvi con viva cordialità.\n \nComitato BPW 
 Club Ticino
DTSTART:20150305T190000
DTEND:20150305T230000
LOCATION:Villa Sassa\, Lugano
ORGANIZER:MAILTO:BPW Ticino <info@bpw-ticino.ch>
SUMMARY:SAVE THE DATE: Cena delle Candele 2015
END:VEVENT
END:VCALENDAR
