BEGIN:VCALENDAR
VERSION:2.0
PRODID:-//BPW Ticino//NONSGML kigkonsult.se iCalcreator 2.16.12//
METHOD:PUBLISH
X-MS-OLK-FORCEINSPECTOROPEN:TRUE
BEGIN:VEVENT
UID:20260422T230807CEST-0058iDcHg5@BPW Ticino
DTSTAMP:20260422T210807Z
DESCRIPTION: \nSabato\, 4 ottobre 2014\nIl BPW Club Ticino ha deciso di sos
 tenere e di partecipare alla 2a edizione della manifestazione transfrontal
 iera in “Cammino per la Pace” dell’Associazione Culture Ticino Network di 
 Lugano\, che si terrà  sabato mattina 4 ottobre 2014. Quest’importante ini
 ziativa\, con raduno dei partecipanti dalle ore 9:00 presso la stazione FL
 P di Agno e con le tappe di fermata-buvette presso Magliaso e Caslano\, cu
 lminerà alle ore 12:00 sul piazzale della Dogana di Ponte Tresa\, dove avr
 à luogo “l’unione dei popoli” che vedrà protagonisti i due gruppi provenie
 nti dal lato italiano e da quello svizzero. \nDalle ore 12:30 seguirà la m
 accheronata di solidarietà che si terrà presso la Sala Comunale di Ponte T
 resa con le autorità presenti e ospiti a sorpresa. Sarà un momento convivi
 ale\, a cui siete tutti cordialmente invitati a partecipare\, ricco di ani
 mazione ed esibizioni musicali con il celebre coro “Kolping-Singers Lugano
 ” e i bambini della “Swiss Percussion School” di Massagno.\nIl ricavato de
 lla giornata sarà destinata ai progetti dell’Associazione Culture Ticino N
 etwork\, tra cui “il pulmino della solidarietà” per persone disabili e con
  reddito modesto.\nPer maggiori informazioni sul programma e sulla manifes
 tazione vi invitiamo a consultare il sito www.genenerazioninelcuoredellapa
 ce.ch\n\n \n \nScaricare la locandina
DTSTART:20141004T090000
DTEND:20141004T150000
LOCATION:da Agno a Ponte Tresa
ORGANIZER:MAILTO:BPW Ticino <info@bpw-ticino.ch>
SUMMARY:In cammino per la Pace
END:VEVENT
END:VCALENDAR
