BEGIN:VCALENDAR
VERSION:2.0
PRODID:-//BPW Ticino//NONSGML kigkonsult.se iCalcreator 2.16.12//
METHOD:PUBLISH
X-MS-OLK-FORCEINSPECTOROPEN:TRUE
BEGIN:VEVENT
UID:20260423T001628CEST-9185p3SDM7@BPW Ticino
DTSTAMP:20260422T221628Z
DESCRIPTION:con\n  Laura Incandela\n\n \n
DTSTART:20140927T000000
DTEND:20140927T210000
LOCATION:da definire
ORGANIZER:MAILTO:BPW Ticino <info@bpw-ticino.ch>
SUMMARY:Corso di cucina siciliana
END:VEVENT
END:VCALENDAR
