BEGIN:VCALENDAR
VERSION:2.0
PRODID:-//BPW Ticino//NONSGML kigkonsult.se iCalcreator 2.16.12//
METHOD:PUBLISH
X-MS-OLK-FORCEINSPECTOROPEN:TRUE
BEGIN:VEVENT
UID:20260422T225402CEST-4643aZ4Mux@BPW Ticino
DTSTAMP:20260422T205402Z
DESCRIPTION: 
DTSTART:20141110T000000
DTEND:20141110T000000
LOCATION:Palazzo Cusani - Milano\, Associazione W&T
ORGANIZER:MAILTO:BPW Ticino <info@bpw-ticino.ch>
SUMMARY:Premio  Tecnovisionarie
END:VEVENT
END:VCALENDAR
