BEGIN:VCALENDAR
VERSION:2.0
PRODID:-//BPW Ticino//NONSGML kigkonsult.se iCalcreator 2.16.12//
METHOD:PUBLISH
X-MS-OLK-FORCEINSPECTOROPEN:TRUE
BEGIN:VEVENT
UID:20260423T001551CEST-02373mgKCS@BPW Ticino
DTSTAMP:20260422T221551Z
DESCRIPTION: 
DTSTART:20141211T000000
DTEND:20141211T230000
LOCATION:Lugano
ORGANIZER:MAILTO:BPW Ticino <info@bpw-ticino.ch>
SUMMARY:Les Ambassadeur - Gioielli
END:VEVENT
END:VCALENDAR
