BEGIN:VCALENDAR
VERSION:2.0
PRODID:-//BPW Ticino//NONSGML kigkonsult.se iCalcreator 2.16.12//
METHOD:PUBLISH
X-MS-OLK-FORCEINSPECTOROPEN:TRUE
BEGIN:VEVENT
UID:20260423T001418CEST-3077cZJHvu@BPW Ticino
DTSTAMP:20260422T221418Z
DESCRIPTION:L’Assemblea Ordinaria del BPW CLUB Ticino è convocata per  vene
 rdi 30 gennaio 2015 alle ore 18.45  presso l’Hotel Villa Sassa a Lugano. 
 \nRicordiamo che la partecipazione all'Assemplea è obbligatoria. Qualora u
 na Socia fosse impossibilitata a presenziare\, è pregata di darne comunica
 zione  e contestualmente delegare  una  rappresentante via mail all'indiri
 zzo  info@bpw-ticino.ch\, con copia alla Presidente in carica\, Marialuisa
  Parodi\, marialuisa@bpw-ticino.ch\, entro il 26 gennaio 2015.\nVi preghia
 mo anche di comunicarci se desiderate fermarvi dopo l’Assemblea per la tra
 dizionale cena\,  presso lo stesso ristorante.
DTSTART:20150130T184500
DTEND:20150130T200000
LOCATION:Villa Sassa\, Lugano
ORGANIZER:MAILTO:BPW Ticino <info@bpw-ticino.ch>
SUMMARY:Assemblea annuale BPW Ticino
END:VEVENT
END:VCALENDAR
