BEGIN:VCALENDAR
VERSION:2.0
PRODID:-//BPW Ticino//NONSGML kigkonsult.se iCalcreator 2.16.12//
METHOD:PUBLISH
X-MS-OLK-FORCEINSPECTOROPEN:TRUE
BEGIN:VEVENT
UID:20260423T001751CEST-0486VTjvxU@BPW Ticino
DTSTAMP:20260422T221751Z
DESCRIPTION:\n\nCare socie\, care amiche\,\nil Comitato del BPW Club Ticino
  Vi invita con grande piacere alla cena di Natale che si terrà il giorno 3
  dicembre p.v. alle ore 19.00 presso il ristorante La Favola dell’Hotel Pa
 rco Paradiso\, via Carona 27 – 6900 Lugano\, (www.parco-paradiso.com).\n 
 \nNel corso della serata c'è la possibilità di ospitare il tradizionale me
 rcatino di Natale: fateci sapere se siete interessate a proporre i vostri 
 prodotti\, riservando una piccola percentuale del ricavato a favore del Cl
 ub.\nVi invitiamo a voler cortesemente confermare la vostra presenza e que
 lla dei vostri accompagnatori entro il 27 novembre  tramite e-mail all'ind
 irizzo \ninfo@bpw-ticino.ch.\n \nIn attesa delle vostre conferme\, che spe
 riamo possano essere numerose\, porgiamo i nostri piu' cordiali saluti.\nI
 l Comitato del BPW Club Ticino \n \n 
DTSTART:20141203T190000
DTEND:20141203T230000
LOCATION:Hotel Parco Paradiso\, Lugano
ORGANIZER:MAILTO:BPW Ticino <info@bpw-ticino.ch>
SUMMARY:Cena di Natale 
END:VEVENT
END:VCALENDAR
