BEGIN:VCALENDAR
VERSION:2.0
PRODID:-//BPW Ticino//NONSGML kigkonsult.se iCalcreator 2.16.12//
METHOD:PUBLISH
X-MS-OLK-FORCEINSPECTOROPEN:TRUE
BEGIN:VEVENT
UID:20260422T225004CEST-3426Tdctr7@BPW Ticino
DTSTAMP:20260422T205004Z
DESCRIPTION:\n “Conoscersi… passeggiando”\nsi terrà\nsabato 30 agosto 2014 
 a partire dalle 16:30\n\nIn quest’occasione alcune nostre socie presentera
 nno la loro professione e le loro attività.\nScaricare la locandina
DTSTART:20140830T140000
DTEND:20140830T190000
LOCATION:Serpiano
ORGANIZER:MAILTO:BPW Ticino <info@bpw-ticino.ch>
SUMMARY:Pomeriggio nuove socie con passeggiata
END:VEVENT
END:VCALENDAR
