BEGIN:VCALENDAR
VERSION:2.0
PRODID:-//BPW Ticino//NONSGML kigkonsult.se iCalcreator 2.16.12//
METHOD:PUBLISH
X-MS-OLK-FORCEINSPECTOROPEN:TRUE
BEGIN:VEVENT
UID:20260422T225943CEST-0058uTcsuJ@BPW Ticino
DTSTAMP:20260422T205943Z
DESCRIPTION: Mirto Canonica\, pittore
DTSTART:20140522T090000
DTEND:20140522T220000
LOCATION:SWICA\, Lugano
ORGANIZER:MAILTO:BPW Ticino <info@bpw-ticino.ch>
SUMMARY:Vernissage Mirto Canonica
END:VEVENT
END:VCALENDAR
