BEGIN:VCALENDAR
VERSION:2.0
PRODID:-//BPW Ticino//NONSGML kigkonsult.se iCalcreator 2.16.12//
METHOD:PUBLISH
X-MS-OLK-FORCEINSPECTOROPEN:TRUE
BEGIN:VEVENT
UID:20260422T225111CEST-5102vjUfUf@BPW Ticino
DTSTAMP:20260422T205111Z
DESCRIPTION: 
DTSTART:20140522T180000
DTEND:20140522T220000
LOCATION:Bellinzona\, Auditorium Banca Stato
ORGANIZER:MAILTO:BPW Ticino <info@bpw-ticino.ch>
SUMMARY:Infoseno
END:VEVENT
END:VCALENDAR
