BEGIN:VCALENDAR
VERSION:2.0
PRODID:-//BPW Ticino//NONSGML kigkonsult.se iCalcreator 2.16.12//
METHOD:PUBLISH
X-MS-OLK-FORCEINSPECTOROPEN:TRUE
BEGIN:VEVENT
UID:20260423T001823CEST-0772aI1X0h@BPW Ticino
DTSTAMP:20260422T221823Z
DESCRIPTION:World Forum per la Pace \n8-10 novembre 2014 \nLugano\nUniversi
 tà della Svizzera Italiana e Palazzo dei Congressi\n\nwww.generazioninelcu
 oredellapace.ch
DTSTART:20141108T000000
DTEND:20141110T000000
LOCATION:Lugano
ORGANIZER:MAILTO:BPW Ticino <info@bpw-ticino.ch>
SUMMARY:World Forum per la Pace 
END:VEVENT
END:VCALENDAR
