BEGIN:VCALENDAR
VERSION:2.0
PRODID:-//BPW Ticino//NONSGML kigkonsult.se iCalcreator 2.16.12//
METHOD:PUBLISH
X-MS-OLK-FORCEINSPECTOROPEN:TRUE
BEGIN:VEVENT
UID:20260422T225556CEST-3358m5cx5J@BPW Ticino
DTSTAMP:20260422T205556Z
DESCRIPTION:Venerdì 14 novembre 2014\nVisita guidata risevata alle socie BP
 W\n\n\n
DTSTART:20141114T160000
DTEND:20141114T220000
LOCATION:Pinacoteca Zust\, Rancate\, Via Pinacoteca Züst 2
ORGANIZER:MAILTO:BPW Ticino <info@bpw-ticino.ch>
SUMMARY:Mostra 'I doni d'amore' 
END:VEVENT
END:VCALENDAR
