BEGIN:VCALENDAR
VERSION:2.0
PRODID:-//BPW Ticino//NONSGML kigkonsult.se iCalcreator 2.16.12//
METHOD:PUBLISH
X-MS-OLK-FORCEINSPECTOROPEN:TRUE
BEGIN:VEVENT
UID:20260423T001751CEST-6366U9Dj3W@BPW Ticino
DTSTAMP:20260422T221751Z
DESCRIPTION: 
DTSTART:20140314T180000
DTEND:20140314T230000
LOCATION:IUFFP\, Via Besso 84\, Lugano
ORGANIZER:MAILTO:BPW Ticino <info@bpw-ticino.ch>
SUMMARY:GENER-AZIONI BPW Club Ticino - Equal Pay Day 2014
END:VEVENT
END:VCALENDAR
